BEGIN:VCALENDAR
VERSION:2.0
PRODID:-//Visit Orange County Virginia - ECPv6.7.0//NONSGML v1.0//EN
CALSCALE:GREGORIAN
METHOD:PUBLISH
X-ORIGINAL-URL:https://visitorangevirginia.com
X-WR-CALDESC:Events for Visit Orange County Virginia
REFRESH-INTERVAL;VALUE=DURATION:PT1H
X-Robots-Tag:noindex
X-PUBLISHED-TTL:PT1H
BEGIN:VTIMEZONE
TZID:America/New_York
BEGIN:DAYLIGHT
TZOFFSETFROM:-0500
TZOFFSETTO:-0400
TZNAME:EDT
DTSTART:20260308T070000
END:DAYLIGHT
BEGIN:STANDARD
TZOFFSETFROM:-0400
TZOFFSETTO:-0500
TZNAME:EST
DTSTART:20261101T060000
END:STANDARD
END:VTIMEZONE
BEGIN:VEVENT
DTSTART;TZID=America/New_York:20260509T173000
DTEND;TZID=America/New_York:20260509T220000
DTSTAMP:20260420T044404
CREATED:20260226T141946Z
LAST-MODIFIED:20260226T141946Z
UID:10003854-1778347800-1778364000@visitorangevirginia.com
SUMMARY:BLM Bull & Rodeo at Oakland Height Farm
DESCRIPTION:Oakland Heights Farm is hosting BLM Bull & Rodeo Co. events on the second Saturday of the month May thru September. BLM Bull & Rodeo Company presents one of the finest outdoor Professional Bull Riding events at Oakland Heights Farm. Professional bull riders and bucking bulls from across the nation will keep you on the edge of your seat while going head to head for an 8 second ride! BLM Bull & Rodeo offers a family friendly atmosphere\, with music\, ladies barrel racing\, and extra entertainment featuring mini bucking bulls. Bring the whole family. There will be vendors and food concessions. Tickets on sale at the gate\, $20 for adults\, $15 for kids . They’ll see you rain or shine! \n\nGates Open – 5:30pm \nMini Bulls -6:00pm \nProfessional Bull Riding – 7:30pm \nAdmission CASH ONLY  \n Adults – $20.00 \nKids- $15.00\, \n3 and under free! \nNO ALCOHOL WILL BE PERMITTED.
URL:https://visitorangevirginia.com/event/blm-bull-rodeo-at-oakland-height-farm/2026-05-09/
LOCATION:Oakland Height Farm\, 17110 James Madison Highway\, Gordonsville\, VA\, 22942
ATTACH;FMTTYPE=image/jpeg:https://visitorangevirginia.com/wp-content/uploads/oaklandheightsrodeo-32-scaled-e1772115545225.jpg
END:VEVENT
BEGIN:VEVENT
DTSTART;TZID=America/New_York:20260613T173000
DTEND;TZID=America/New_York:20260613T220000
DTSTAMP:20260420T044404
CREATED:20260226T141946Z
LAST-MODIFIED:20260226T141946Z
UID:10003855-1781371800-1781388000@visitorangevirginia.com
SUMMARY:BLM Bull & Rodeo at Oakland Height Farm
DESCRIPTION:Oakland Heights Farm is hosting BLM Bull & Rodeo Co. events on the second Saturday of the month May thru September. BLM Bull & Rodeo Company presents one of the finest outdoor Professional Bull Riding events at Oakland Heights Farm. Professional bull riders and bucking bulls from across the nation will keep you on the edge of your seat while going head to head for an 8 second ride! BLM Bull & Rodeo offers a family friendly atmosphere\, with music\, ladies barrel racing\, and extra entertainment featuring mini bucking bulls. Bring the whole family. There will be vendors and food concessions. Tickets on sale at the gate\, $20 for adults\, $15 for kids . They’ll see you rain or shine! \n\nGates Open – 5:30pm \nMini Bulls -6:00pm \nProfessional Bull Riding – 7:30pm \nAdmission CASH ONLY  \n Adults – $20.00 \nKids- $15.00\, \n3 and under free! \nNO ALCOHOL WILL BE PERMITTED.
URL:https://visitorangevirginia.com/event/blm-bull-rodeo-at-oakland-height-farm/2026-06-13/
LOCATION:Oakland Height Farm\, 17110 James Madison Highway\, Gordonsville\, VA\, 22942
ATTACH;FMTTYPE=image/jpeg:https://visitorangevirginia.com/wp-content/uploads/oaklandheightsrodeo-32-scaled-e1772115545225.jpg
END:VEVENT
BEGIN:VEVENT
DTSTART;TZID=America/New_York:20260711T173000
DTEND;TZID=America/New_York:20260711T220000
DTSTAMP:20260420T044404
CREATED:20260226T141946Z
LAST-MODIFIED:20260226T141946Z
UID:10003856-1783791000-1783807200@visitorangevirginia.com
SUMMARY:BLM Bull & Rodeo at Oakland Height Farm
DESCRIPTION:Oakland Heights Farm is hosting BLM Bull & Rodeo Co. events on the second Saturday of the month May thru September. BLM Bull & Rodeo Company presents one of the finest outdoor Professional Bull Riding events at Oakland Heights Farm. Professional bull riders and bucking bulls from across the nation will keep you on the edge of your seat while going head to head for an 8 second ride! BLM Bull & Rodeo offers a family friendly atmosphere\, with music\, ladies barrel racing\, and extra entertainment featuring mini bucking bulls. Bring the whole family. There will be vendors and food concessions. Tickets on sale at the gate\, $20 for adults\, $15 for kids . They’ll see you rain or shine! \n\nGates Open – 5:30pm \nMini Bulls -6:00pm \nProfessional Bull Riding – 7:30pm \nAdmission CASH ONLY  \n Adults – $20.00 \nKids- $15.00\, \n3 and under free! \nNO ALCOHOL WILL BE PERMITTED.
URL:https://visitorangevirginia.com/event/blm-bull-rodeo-at-oakland-height-farm/2026-07-11/
LOCATION:Oakland Height Farm\, 17110 James Madison Highway\, Gordonsville\, VA\, 22942
ATTACH;FMTTYPE=image/jpeg:https://visitorangevirginia.com/wp-content/uploads/oaklandheightsrodeo-32-scaled-e1772115545225.jpg
END:VEVENT
BEGIN:VEVENT
DTSTART;TZID=America/New_York:20260808T173000
DTEND;TZID=America/New_York:20260808T220000
DTSTAMP:20260420T044404
CREATED:20260226T141946Z
LAST-MODIFIED:20260226T141946Z
UID:10003857-1786210200-1786226400@visitorangevirginia.com
SUMMARY:BLM Bull & Rodeo at Oakland Height Farm
DESCRIPTION:Oakland Heights Farm is hosting BLM Bull & Rodeo Co. events on the second Saturday of the month May thru September. BLM Bull & Rodeo Company presents one of the finest outdoor Professional Bull Riding events at Oakland Heights Farm. Professional bull riders and bucking bulls from across the nation will keep you on the edge of your seat while going head to head for an 8 second ride! BLM Bull & Rodeo offers a family friendly atmosphere\, with music\, ladies barrel racing\, and extra entertainment featuring mini bucking bulls. Bring the whole family. There will be vendors and food concessions. Tickets on sale at the gate\, $20 for adults\, $15 for kids . They’ll see you rain or shine! \n\nGates Open – 5:30pm \nMini Bulls -6:00pm \nProfessional Bull Riding – 7:30pm \nAdmission CASH ONLY  \n Adults – $20.00 \nKids- $15.00\, \n3 and under free! \nNO ALCOHOL WILL BE PERMITTED.
URL:https://visitorangevirginia.com/event/blm-bull-rodeo-at-oakland-height-farm/2026-08-08/
LOCATION:Oakland Height Farm\, 17110 James Madison Highway\, Gordonsville\, VA\, 22942
ATTACH;FMTTYPE=image/jpeg:https://visitorangevirginia.com/wp-content/uploads/oaklandheightsrodeo-32-scaled-e1772115545225.jpg
END:VEVENT
BEGIN:VEVENT
DTSTART;TZID=America/New_York:20260912T173000
DTEND;TZID=America/New_York:20260912T220000
DTSTAMP:20260420T044404
CREATED:20260226T141946Z
LAST-MODIFIED:20260226T141946Z
UID:10003858-1789234200-1789250400@visitorangevirginia.com
SUMMARY:BLM Bull & Rodeo at Oakland Height Farm
DESCRIPTION:Oakland Heights Farm is hosting BLM Bull & Rodeo Co. events on the second Saturday of the month May thru September. BLM Bull & Rodeo Company presents one of the finest outdoor Professional Bull Riding events at Oakland Heights Farm. Professional bull riders and bucking bulls from across the nation will keep you on the edge of your seat while going head to head for an 8 second ride! BLM Bull & Rodeo offers a family friendly atmosphere\, with music\, ladies barrel racing\, and extra entertainment featuring mini bucking bulls. Bring the whole family. There will be vendors and food concessions. Tickets on sale at the gate\, $20 for adults\, $15 for kids . They’ll see you rain or shine! \n\nGates Open – 5:30pm \nMini Bulls -6:00pm \nProfessional Bull Riding – 7:30pm \nAdmission CASH ONLY  \n Adults – $20.00 \nKids- $15.00\, \n3 and under free! \nNO ALCOHOL WILL BE PERMITTED.
URL:https://visitorangevirginia.com/event/blm-bull-rodeo-at-oakland-height-farm/2026-09-12/
LOCATION:Oakland Height Farm\, 17110 James Madison Highway\, Gordonsville\, VA\, 22942
ATTACH;FMTTYPE=image/jpeg:https://visitorangevirginia.com/wp-content/uploads/oaklandheightsrodeo-32-scaled-e1772115545225.jpg
END:VEVENT
END:VCALENDAR