BEGIN:VCALENDAR
VERSION:2.0
PRODID:-//Visit Orange County Virginia - ECPv6.7.0//NONSGML v1.0//EN
CALSCALE:GREGORIAN
METHOD:PUBLISH
X-ORIGINAL-URL:https://visitorangevirginia.com
X-WR-CALDESC:Events for Visit Orange County Virginia
REFRESH-INTERVAL;VALUE=DURATION:PT1H
X-Robots-Tag:noindex
X-PUBLISHED-TTL:PT1H
BEGIN:VTIMEZONE
TZID:America/New_York
BEGIN:DAYLIGHT
TZOFFSETFROM:-0500
TZOFFSETTO:-0400
TZNAME:EDT
DTSTART:20250309T070000
END:DAYLIGHT
BEGIN:STANDARD
TZOFFSETFROM:-0400
TZOFFSETTO:-0500
TZNAME:EST
DTSTART:20251102T060000
END:STANDARD
END:VTIMEZONE
BEGIN:VEVENT
DTSTART;TZID=America/New_York:20250308T083000
DTEND;TZID=America/New_York:20250308T120000
DTSTAMP:20260425T081703
CREATED:20250128T140459Z
LAST-MODIFIED:20250128T140459Z
UID:10003692-1741422600-1741435200@visitorangevirginia.com
SUMMARY:Racing Towards Preservation
DESCRIPTION:On Saturday\, March 8\, walkers and runners will come together to run/walk either a 5K course or a 10K course and discover the location of the Battle of Payne’s Farm which happened during the Mine Run Campaign in the late fall of 1863. FOWB is hosting this event\, in conjunction with Bishops Events\, in hopes that people will learn more about this special place. \nThe property is owned by the American Battlefield Trust\, who has graciously given us permission to have this event. We have excellent sponsors for this event and hope to have an excellent turnout.  The Friends of Wilderness Battlefield\, Fredericksburg Walking Club\, and the Piedmont Environmental Council will each have information tables set up at the event\, for visitors to learn more about what each organization does and to learn more about Payne’s Farm and the Battle of Mine Run. \nTo register for this event\, please go to 2025 Payne’s Farm 5k & 10k – Bishops Events\, LLC \nFor more information about Friends of Wilderness Battlefield\, please go to www.fowb.org.
URL:https://visitorangevirginia.com/event/racing-towards-preservation/
LOCATION:Payne’s Farm\, 31334 Zoar Road\, Locust Grove\, VA\, 22508
ATTACH;FMTTYPE=image/jpeg:https://visitorangevirginia.com/wp-content/uploads/Field-at-Paynes-Farm-scaled-e1738073057539.jpg
END:VEVENT
END:VCALENDAR