BEGIN:VCALENDAR
VERSION:2.0
PRODID:-//Visit Orange County Virginia - ECPv6.7.0//NONSGML v1.0//EN
CALSCALE:GREGORIAN
METHOD:PUBLISH
X-WR-CALNAME:Visit Orange County Virginia
X-ORIGINAL-URL:https://visitorangevirginia.com
X-WR-CALDESC:Events for Visit Orange County Virginia
REFRESH-INTERVAL;VALUE=DURATION:PT1H
X-Robots-Tag:noindex
X-PUBLISHED-TTL:PT1H
BEGIN:VTIMEZONE
TZID:America/New_York
BEGIN:DAYLIGHT
TZOFFSETFROM:-0500
TZOFFSETTO:-0400
TZNAME:EDT
DTSTART:20260308T070000
END:DAYLIGHT
BEGIN:STANDARD
TZOFFSETFROM:-0400
TZOFFSETTO:-0500
TZNAME:EST
DTSTART:20261101T060000
END:STANDARD
END:VTIMEZONE
BEGIN:VEVENT
DTSTART;TZID=America/New_York:20260624T110000
DTEND;TZID=America/New_York:20260624T230000
DTSTAMP:20260425T061820
CREATED:20260226T143337Z
LAST-MODIFIED:20260226T143407Z
UID:10003864-1782298800-1782342000@visitorangevirginia.com
SUMMARY:2026 Orange County Fair
DESCRIPTION:The Orange County Fair is an old fashioned county fair in the truest sense! Enjoy fair fun for all at this family friendly event in beautiful Orange County\, VA!
URL:https://visitorangevirginia.com/event/2026-orange-county-fair/2026-06-24/
LOCATION:Orange County Fairgrounds\, 133 Fairground Road\, Orange\, VA\, 22960
ATTACH;FMTTYPE=image/webp:https://visitorangevirginia.com/wp-content/uploads/Orange-COunty-Fair-e1748875865752.webp
END:VEVENT
BEGIN:VEVENT
DTSTART;TZID=America/New_York:20260625T110000
DTEND;TZID=America/New_York:20260625T230000
DTSTAMP:20260425T061820
CREATED:20260226T143337Z
LAST-MODIFIED:20260226T143407Z
UID:10003865-1782385200-1782428400@visitorangevirginia.com
SUMMARY:2026 Orange County Fair
DESCRIPTION:The Orange County Fair is an old fashioned county fair in the truest sense! Enjoy fair fun for all at this family friendly event in beautiful Orange County\, VA!
URL:https://visitorangevirginia.com/event/2026-orange-county-fair/2026-06-25/
LOCATION:Orange County Fairgrounds\, 133 Fairground Road\, Orange\, VA\, 22960
ATTACH;FMTTYPE=image/webp:https://visitorangevirginia.com/wp-content/uploads/Orange-COunty-Fair-e1748875865752.webp
END:VEVENT
BEGIN:VEVENT
DTSTART;TZID=America/New_York:20260626T110000
DTEND;TZID=America/New_York:20260626T230000
DTSTAMP:20260425T061820
CREATED:20260226T143337Z
LAST-MODIFIED:20260226T143407Z
UID:10003866-1782471600-1782514800@visitorangevirginia.com
SUMMARY:2026 Orange County Fair
DESCRIPTION:The Orange County Fair is an old fashioned county fair in the truest sense! Enjoy fair fun for all at this family friendly event in beautiful Orange County\, VA!
URL:https://visitorangevirginia.com/event/2026-orange-county-fair/2026-06-26/
LOCATION:Orange County Fairgrounds\, 133 Fairground Road\, Orange\, VA\, 22960
ATTACH;FMTTYPE=image/webp:https://visitorangevirginia.com/wp-content/uploads/Orange-COunty-Fair-e1748875865752.webp
END:VEVENT
BEGIN:VEVENT
DTSTART;TZID=America/New_York:20260627T110000
DTEND;TZID=America/New_York:20260627T230000
DTSTAMP:20260425T061820
CREATED:20260226T143337Z
LAST-MODIFIED:20260226T143407Z
UID:10003867-1782558000-1782601200@visitorangevirginia.com
SUMMARY:2026 Orange County Fair
DESCRIPTION:The Orange County Fair is an old fashioned county fair in the truest sense! Enjoy fair fun for all at this family friendly event in beautiful Orange County\, VA!
URL:https://visitorangevirginia.com/event/2026-orange-county-fair/2026-06-27/
LOCATION:Orange County Fairgrounds\, 133 Fairground Road\, Orange\, VA\, 22960
ATTACH;FMTTYPE=image/webp:https://visitorangevirginia.com/wp-content/uploads/Orange-COunty-Fair-e1748875865752.webp
END:VEVENT
END:VCALENDAR